BEGIN:VCALENDAR
VERSION:2.0
PRODID:-//Tukios.com/
BEGIN:VEVENT
UID:1f9c856d-fd84-4374-a45a-1f84fb4c0733@www.stodghillfuneralhome.com
DTSTAMP:20260422T034244Z
DTSTART:20260426T200000Z
DTEND:20260426T203000Z
SUMMARY:Rosary
DESCRIPTION:
URL:https://www.stodghillfuneralhome.com/obituaries/anna-greubel
LOCATION: 500 E Park St  Fort Branch IN 47648
GEO:38.2532044;-87.5735006
END:VEVENT
END:VCALENDAR