BEGIN:VCALENDAR
VERSION:2.0
PRODID:-//Tukios.com/
BEGIN:VEVENT
UID:5e6825d0-9573-481d-be6d-4609cb6d6bde@www.stodghillfuneralhome.com
DTSTAMP:20260422T034356Z
DTSTART:20260426T203000Z
DTEND:20260427T000000Z
SUMMARY:Visitation
DESCRIPTION:
URL:https://www.stodghillfuneralhome.com/obituaries/anna-greubel
LOCATION: 500 E Park St  Fort Branch IN 47648
GEO:38.2532044;-87.5735006
END:VEVENT
END:VCALENDAR