BEGIN:VCALENDAR
VERSION:2.0
PRODID:-//Tukios.com/
BEGIN:VEVENT
UID:084460cf-c529-4372-bc54-6817f37f9e56@www.stodghillfuneralhome.com
DTSTAMP:20260422T034304Z
DTSTART:20260427T140000Z
DTEND:20260427T150000Z
SUMMARY:Visitation
DESCRIPTION:
URL:https://www.stodghillfuneralhome.com/obituaries/anna-greubel
LOCATION: 12300 South 50 West  Haubstadt IN 47639
GEO:38.1775464;-87.5775201
END:VEVENT
END:VCALENDAR