BEGIN:VCALENDAR
VERSION:2.0
PRODID:-//Tukios.com/
BEGIN:VEVENT
UID:d390d367-fa21-496f-a17e-403c088f3fc2@www.stodghillfuneralhome.com
DTSTAMP:20260422T034819Z
DTSTART:20260427T150000Z
DTEND:20260427T154500Z
SUMMARY:Mass of Christian Burial
DESCRIPTION:
URL:https://www.stodghillfuneralhome.com/obituaries/anna-greubel
LOCATION: 12300 South 50 West  Haubstadt IN 47639
GEO:38.1775464;-87.5775201
END:VEVENT
END:VCALENDAR