BEGIN:VCALENDAR
VERSION:2.0
PRODID:-//Tukios.com/
BEGIN:VEVENT
UID:3b4b69b5-65b1-4a30-8b55-99822f8634cc@www.stodghillfuneralhome.com
DTSTAMP:20260423T002200Z
DTSTART:20260501T150000Z
DTEND:20260501T170000Z
SUMMARY:Visitation
DESCRIPTION:
URL:https://www.stodghillfuneralhome.com/obituaries/deborah-lockridge
LOCATION: 500 E Park St  Fort Branch IN 47648
GEO:38.2532044;-87.5735006
END:VEVENT
END:VCALENDAR