BEGIN:VCALENDAR
VERSION:2.0
PRODID:-//Tukios.com/
BEGIN:VEVENT
UID:53675302-4c4c-477b-bcaf-3490325bca39@www.stodghillfuneralhome.com
DTSTAMP:20260423T002200Z
DTSTART:20260501T170000Z
DTEND:20260501T180000Z
SUMMARY:Funeral Service
DESCRIPTION:
URL:https://www.stodghillfuneralhome.com/obituaries/deborah-lockridge
LOCATION: 500 E Park St  Fort Branch IN 47648
GEO:38.2532044;-87.5735006
END:VEVENT
END:VCALENDAR